View In:
ArcGIS JavaScript
ArcGIS Online map viewer
Google Earth
ArcMap
View Footprint In:
ArcGIS Online map viewer
Service Description: Distortion raster for the LDP tool - Harris Co
Name: LDP/Harris_6
Description: Distortion raster for the LDP tool - Harris Co
Single Fused Map Cache: false
Extent:
XMin: -1.0843981520662714E7
YMin: 3300448.9661568413
XMax: -1.0372510736006841E7
YMax: 3771919.7508127135
Spatial Reference:
102100
(3857)
Initial Extent:
XMin: -1.0843981520662714E7
YMin: 3300448.9661568413
XMax: -1.0372510736006841E7
YMax: 3771919.7508127135
Spatial Reference:
102100
(3857)
Full Extent:
XMin: -1.0843981520662714E7
YMin: 3300448.9661568413
XMax: -1.0372510736006841E7
YMax: 3771919.7508127135
Spatial Reference:
102100
(3857)
Pixel Size X: 306.94712542700046
Pixel Size Y: 306.9471254270002
Band Count: 1
Pixel Type: S8
RasterFunction Infos: {"name":"None","description":"A No-Op Function.","help":""}
Mensuration Capabilities: Basic
Has Histograms: true
Has Colormap: false
Has Multi Dimensions : false
Rendering Rule:
Min Scale: 0
Max Scale: 0
Copyright Text:
Service Data Type: esriImageServiceDataTypeGeneric
Min Values: -27
Max Values: 114
Mean Values: 5.285640786422819
Standard Deviation Values: 18.214859699538742
Object ID Field:
Fields:
None
Default Mosaic Method: Center
Allowed Mosaic Methods:
SortField:
SortValue: null
Mosaic Operator: First
Default Compression Quality: 75
Default Resampling Method: Bilinear
Max Record Count: null
Max Image Height: 4100
Max Image Width: 15000
Max Download Image Count: null
Max Mosaic Image Count: null
Allow Raster Function: true
Allow Compute TiePoints: false
Supports Statistics: false
Supports Advanced Queries: false
Use StandardizedQueries: true
Raster Type Infos:
Name: Raster Dataset
Description: Supports all ArcGIS Raster Datasets
Help:
Has Raster Attribute Table: true
Edit Fields Info: null
Ownership Based AccessControl For Rasters: null
Child Resources:
Info
Raster Attribute Table
Histograms
Key Properties
Legend
MultiDimensionalInfo
rasterFunctionInfos
Supported Operations:
Export Image
Identify
Measure
Compute Histograms
Compute Statistics Histograms
Get Samples
Compute Class Statistics